BEGIN:VCALENDAR
VERSION:2.0
PRODID:-//Lalor Family Dental Events - ECPv6.15.20//NONSGML v1.0//EN
CALSCALE:GREGORIAN
METHOD:PUBLISH
X-WR-CALNAME:Lalor Family Dental Events
X-ORIGINAL-URL:https://lalorevents.com
X-WR-CALDESC:Events for Lalor Family Dental Events
REFRESH-INTERVAL;VALUE=DURATION:PT1H
X-Robots-Tag:noindex
X-PUBLISHED-TTL:PT1H
BEGIN:VTIMEZONE
TZID:UTC
BEGIN:STANDARD
TZOFFSETFROM:+0000
TZOFFSETTO:+0000
TZNAME:UTC
DTSTART:20220101T000000
END:STANDARD
END:VTIMEZONE
BEGIN:VTIMEZONE
TZID:America/New_York
BEGIN:DAYLIGHT
TZOFFSETFROM:-0500
TZOFFSETTO:-0400
TZNAME:EDT
DTSTART:20220313T070000
END:DAYLIGHT
BEGIN:STANDARD
TZOFFSETFROM:-0400
TZOFFSETTO:-0500
TZNAME:EST
DTSTART:20221106T060000
END:STANDARD
BEGIN:DAYLIGHT
TZOFFSETFROM:-0500
TZOFFSETTO:-0400
TZNAME:EDT
DTSTART:20230312T070000
END:DAYLIGHT
BEGIN:STANDARD
TZOFFSETFROM:-0400
TZOFFSETTO:-0500
TZNAME:EST
DTSTART:20231105T060000
END:STANDARD
BEGIN:DAYLIGHT
TZOFFSETFROM:-0500
TZOFFSETTO:-0400
TZNAME:EDT
DTSTART:20240310T070000
END:DAYLIGHT
BEGIN:STANDARD
TZOFFSETFROM:-0400
TZOFFSETTO:-0500
TZNAME:EST
DTSTART:20241103T060000
END:STANDARD
END:VTIMEZONE
BEGIN:VEVENT
DTSTART;TZID=UTC:20231209T170000
DTEND;TZID=UTC:20231209T220000
DTSTAMP:20260420T130212
CREATED:20221227T171058Z
LAST-MODIFIED:20230207T202920Z
UID:232-1702141200-1702159200@lalorevents.com
SUMMARY:Holiday Party 2023
DESCRIPTION:
URL:https://lalorevents.com/event/holiday-party-2023/
LOCATION:DoubleTree by Hilton Hotel\, 225 Water Street\, Binghamton\, NY\, 13901\, United States
END:VEVENT
BEGIN:VEVENT
DTSTART;VALUE=DATE:20230915
DTEND;VALUE=DATE:20230916
DTSTAMP:20260420T130212
CREATED:20221227T171030Z
LAST-MODIFIED:20230207T203143Z
UID:230-1694736000-1694822399@lalorevents.com
SUMMARY:Lalor Olympics 2023
DESCRIPTION:
URL:https://lalorevents.com/event/lalor-olympics-2023/
LOCATION:434 Sportsplex\, 1900 Vestal Pkwy\, Vestal\, NY\, 13850\, United States
END:VEVENT
BEGIN:VEVENT
DTSTART;TZID=UTC:20230812T170000
DTEND;TZID=UTC:20230812T210000
DTSTAMP:20260420T130212
CREATED:20230123T020846Z
LAST-MODIFIED:20230606T154241Z
UID:245-1691859600-1691874000@lalorevents.com
SUMMARY:NYC Happy Hour
DESCRIPTION:Save the date for the annual Lalor NYC Happy Hour and recruitment event.
URL:https://lalorevents.com/event/nyc-happy-hour/
LOCATION:Bierhaus NYC\, 712 3rd Ave\, New York\, 10017\, United States
END:VEVENT
BEGIN:VEVENT
DTSTART;TZID=UTC:20230711T180000
DTEND;TZID=UTC:20230711T200000
DTSTAMP:20260420T130212
CREATED:20230606T154644Z
LAST-MODIFIED:20230606T154644Z
UID:295-1689098400-1689105600@lalorevents.com
SUMMARY:Doctor CE: Endo Course
DESCRIPTION:
URL:https://lalorevents.com/event/doctor-ce-endo-course/
LOCATION:Location TBD
END:VEVENT
BEGIN:VEVENT
DTSTART;TZID=America/New_York:20230524T183000
DTEND;TZID=America/New_York:20230524T213000
DTSTAMP:20260420T130212
CREATED:20230508T181227Z
LAST-MODIFIED:20230508T182121Z
UID:291-1684953000-1684963800@lalorevents.com
SUMMARY:Rumble Ponies Doctor Outing
DESCRIPTION:Join us for a doctor outing at a Binghamton Rumble Ponies game on Wednesday\, May 24\, 2023 at 6:30PM in a suite! \nDate: Wednesday\, May 24\, 2023\nTime: 6:30PM (game starts at 6:35PM\, feel free to come by earlier)\nLocation: Mirabito Stadium is located in Downtown Binghamton at 211 Henry Street\, Binghamton\, NY 13901 – in a SUITE (once you RSVP – more info will be sent). Rumble Ponies vs. Richmond! \nRSVP \nThere will be food and drinks!
URL:https://lalorevents.com/event/rumble-ponies-doctor-outing/
END:VEVENT
BEGIN:VEVENT
DTSTART;TZID=UTC:20230429T070000
DTEND;TZID=UTC:20230429T130000
DTSTAMP:20260420T130212
CREATED:20221227T170749Z
LAST-MODIFIED:20230302T151742Z
UID:228-1682751600-1682773200@lalorevents.com
SUMMARY:Free Dental Care Day 2023
DESCRIPTION:Lalor Family Dental and Dinosaur Dental are proud to host our Annual Free Dental Care Day on Saturday\, April 29th! \nRSVP
URL:https://lalorevents.com/event/free-dental-care-day-2023/
LOCATION:Lalor Family Dental – Vestal Office\, 2521 Vestal Pkwy W\, Vestal\, NY\, 13850\, United States
END:VEVENT
BEGIN:VEVENT
DTSTART;TZID=UTC:20230315T183000
DTEND;TZID=UTC:20230315T213000
DTSTAMP:20260420T130212
CREATED:20230228T194525Z
LAST-MODIFIED:20230301T191938Z
UID:283-1678905000-1678915800@lalorevents.com
SUMMARY:Doctor Dinner Outing - Thai Time
DESCRIPTION:Join us for a doctor dinner at Thai Time on Wednesday\, March 15th\, 2023 at 6:30PM. \nDate: Wednesday\, March 15th 2023\nTime: 6:30PM (come by whenever you are done with work starting at 5:30PM for some drinks)\nLocation: Thai Time (96 Front St\, Binghamton\, NY 13905) – in the Private Room Downstairs under LALOR. \nRSVP
URL:https://lalorevents.com/event/doctor-dinner-outing-thai-time/
LOCATION:Thai Time\, 96 Front St\, Binghamton\, NY\, 13905
END:VEVENT
BEGIN:VEVENT
DTSTART;TZID=UTC:20230221T180000
DTEND;TZID=UTC:20230221T200000
DTSTAMP:20260420T130212
CREATED:20230207T162958Z
LAST-MODIFIED:20230215T213633Z
UID:250-1677002400-1677009600@lalorevents.com
SUMMARY:Doctor CE: Multiple Emerging Clinical Issues with Oral Surgical / Dental Patients
DESCRIPTION:Become more familiar with preoperative planning and treatment of medication related osteonecrosis of the jaws; identification of common cysts of the jaws and their treatment; identification of carotid calcifications and referral when appropriate) \nWhat: 2 free CE Credits plus dinner & drinks!Where: Dinosaur Dental\nWhen: 6:00pm Tues\, February 21st\, 2023 (feel free to come by early for food & drinks starting around 5:30PM) \nRSVP \nSpeaker: James L DeSantis DDS\, MD \nSpeaker Bio: Dr. DeSantis is a specialist in oral and maxillofacial surgery in the Greater Binghamton area of Johnson City NY. He was born here and grew up locally in Owego. After graduating from Cornell University with a Bachelor of Science degree in Nutritional Science\, he received both his Doctor of Medicine (MD) and Doctor of Dental Surgery (DDS) degrees (Thesis Honors) at the State University of New York Buffalo Schools of Dental Medicine and Medicine / Biomedical Science. He also completed his oral surgery training at the State University of New York Buffalo Medical/Dental Consortium. In addition to his dental degree and specialty certification\, Dr. DeSantis studied medicine and is also a physician\, receiving his Doctor of Medicine degree (MD) from UB in 2000; he performed a General Surgery Internship prior to progressing through the later residency years in Oral and Maxillofacial Surgery. He is a member of the American Dental Association and the New York State Dental Society. He is also an active member in the local and regional dental societies. He is the President Elect of the NY State Dental Association -Sixth District. He holds membership in the American Association of Oral and Maxillofacial Surgeons and the NewYork StateSociety of Oral and Maxillofacial Surgeons. He is currently on staff at Wilson Memorial Regional Trauma Center/ UHS Hospitals and is both the Chairman and Director of the Department of Dentistry and a member of the Medical Executive Committee of United Health Services.. He is an active member of the trauma surgery program\, often called to repair complex facial injuries. Jim lectures and precepts medical students and resident physicians at the hospital and his office. He lectures locally and regionally on topics such as trauma\, pathology and anesthesia. He is also an adjunct staff member of the RDH program at Broome Community College. Dr. DeSantis offers a wide range of oral surgery services with a special interest in facial trauma and dental implant placement/ bone reconstruction. He also is particularly interested in third molar surgery and effects to lessen the fear and pain associated with this often-necessary surgery. He is honored to see return patients as well as referred siblings\, cousins and friends of former third molar patients who realized… “Hey\, it’s not that bad!” He lives in Endwell with his wife Kimberly (a Family Practice Physician at Endwell Family Physicians) and their five children\, three dogs\, a couple cats\, some fish\, eight ducks\, bunnies and pretty much whatever strays happen to show up. He participates locally and nationally in many charitable events and contributions. He is a struggling Yankee fan whose other personal interests include collector cars\, outdoors\, music\, family and friends and most importantly watching his children grow and attending their many athletic events. Jim is a youth basketball\, baseball and football coach locally and is active with sponsoring many youth events\, teams and endeavors.
URL:https://lalorevents.com/event/ce/
LOCATION:Dinosaur Dental\, 1700 Monroe Street\, Endicott\, NY\, 13760\, United States
ORGANIZER;CN="Tara Maslin":MAILTO:tara@lalordental.com
END:VEVENT
BEGIN:VEVENT
DTSTART;TZID=UTC:20230207T180000
DTEND;TZID=UTC:20230207T210000
DTSTAMP:20260420T130212
CREATED:20221216T200627Z
LAST-MODIFIED:20230207T202622Z
UID:59-1675792800-1675803600@lalorevents.com
SUMMARY:Doctor CE: Infection Control
DESCRIPTION:Join us for the NYS Infection Control Course on Tuesday\, Feb. 7\, from 6-9p.m. This is the NYS infection control course that is required every 4 years for all providers. It will be 3 free CE credits. It will be at the DoubleTree by Hilton Hotel in Binghamton\, NY. Please let us know by Friday\, Feb. 13\, if you plan to attend. See Tara Maslin for any questions (tara@lalordental.com). We hope to see you there! \nRSVP
URL:https://lalorevents.com/event/doctor-ce-event/
LOCATION:DoubleTree by Hilton Hotel\, 225 Water Street\, Binghamton\, NY\, 13901\, United States
ORGANIZER;CN="Tara Maslin":MAILTO:tara@lalordental.com
END:VEVENT
END:VCALENDAR